BEGIN:VCALENDAR
VERSION:2.0
PRODID:-//Il Libraio//NONSGML Event Calendar//IT
BEGIN:VEVENT
UID:69be227e0d4aa
DTSTART:20260327T170000Z
SEQUENCE:0
TRANSP:OPAQUE
LOCATION:https://www.google.com/maps/dir/+Teatro+Politeama+Piazza+Fratelli+
 Rosselli+6++Poggibonsi+SI/
SUMMARY:Adriano Giotti a Poggibonsi (SI)
CLASS:PUBLIC
DESCRIPTION:Scheda dell'evento: https://www.illibraio.it/eventi/adriano-gio
 tti-a-poggibonsi-si-35569/
DTSTAMP:20260321T044550Z
END:VEVENT
END:VCALENDAR