BEGIN:VCALENDAR
VERSION:2.0
PRODID:-//Il Libraio//NONSGML Event Calendar//IT
BEGIN:VEVENT
UID:6999387c90bf5
DTSTART:20260223T180000Z
SEQUENCE:0
TRANSP:OPAQUE
LOCATION:https://www.google.com/maps/dir/+Il+Candelibro+Storie+ed+Essenze+V
 ia+delle+Vigne+Nuove+6++Roma+RM/
SUMMARY:Adriano Giotti a Roma
CLASS:PUBLIC
DESCRIPTION:Scheda dell'evento: https://www.illibraio.it/eventi/adriano-gio
 tti-a-roma-35549/
DTSTAMP:20260221T044548Z
END:VEVENT
END:VCALENDAR