BEGIN:VCALENDAR
VERSION:2.0
PRODID:-//Il Libraio//NONSGML Event Calendar//IT
BEGIN:VEVENT
UID:69be227e0fb6f
DTSTART:20260328T160000Z
SEQUENCE:0
TRANSP:OPAQUE
LOCATION:https://www.google.com/maps/dir/+Giunti+al+Punto+Librerie+Via+Vari
 ante+Cisa+40++Sarzana+SP/
SUMMARY:Adriano Giotti a Sarzana (SP)
CLASS:PUBLIC
DESCRIPTION:Scheda dell'evento: https://www.illibraio.it/eventi/adriano-gio
 tti-a-sarzana-sp-35688/
DTSTAMP:20260321T044550Z
END:VEVENT
END:VCALENDAR