BEGIN:VCALENDAR
VERSION:2.0
PRODID:-//Il Libraio//NONSGML Event Calendar//IT
BEGIN:VEVENT
UID:6999387c97c51
DTSTART:20260226T170000Z
SEQUENCE:0
TRANSP:OPAQUE
LOCATION:https://www.google.com/maps/dir/+Lo+straniero+-+Libri+da+altrove+V
 ia+Vanchiglia+36++Torino+TO/
SUMMARY:Adriano Giotti a Torino
CLASS:PUBLIC
DESCRIPTION:Scheda dell'evento: https://www.illibraio.it/eventi/adriano-gio
 tti-a-torino-35363/
DTSTAMP:20260221T044548Z
END:VEVENT
END:VCALENDAR