BEGIN:VCALENDAR
VERSION:2.0
PRODID:-//Il Libraio//NONSGML Event Calendar//IT
BEGIN:VEVENT
UID:69ab1b1ba8775
DTSTART:20260314T103000Z
SEQUENCE:0
TRANSP:OPAQUE
LOCATION:https://www.google.com/maps/dir/+I+libri+di+Eppi+-+Libreria+Torino
 +Crocetta+Via+Giuseppe+Piazzi+7a++Torino+TO/
SUMMARY:Adriano Giotti a Torino
CLASS:PUBLIC
DESCRIPTION:Scheda dell'evento: https://www.illibraio.it/eventi/adriano-gio
 tti-a-torino-35366/
DTSTAMP:20260306T182115Z
END:VEVENT
END:VCALENDAR