BEGIN:VCALENDAR
VERSION:2.0
PRODID:-//Il Libraio//NONSGML Event Calendar//IT
BEGIN:VEVENT
UID:69e2fe638f907
DTSTART:20260424T160000Z
SEQUENCE:0
TRANSP:OPAQUE
LOCATION:https://www.google.com/maps/dir/+Fondazione+Cassa+di+Risparmio+di+
 San+Miniato+Piazza+Grifoni+12++San+Miniato+PI/
SUMMARY:Agnese Pini a San Miniato (PI)
CLASS:PUBLIC
DESCRIPTION:Scheda dell'evento: https://www.illibraio.it/eventi/agnese-pini
 -a-san-miniato-pi-36298/
DTSTAMP:20260418T034539Z
END:VEVENT
END:VCALENDAR