BEGIN:VCALENDAR
VERSION:2.0
PRODID:-//Il Libraio//NONSGML Event Calendar//IT
BEGIN:VEVENT
UID:6931d117c8345
DTSTART:20251210T193000Z
SEQUENCE:0
TRANSP:OPAQUE
LOCATION:https://www.google.com/maps/dir/+Eufemia+Emporio+d\\'Affori+Via+Mi
 chele+Scherillo+4++Milano+MI/
SUMMARY:Albano Marcarini a Affori\, Milano
CLASS:PUBLIC
DESCRIPTION:Scheda dell'evento: https://www.illibraio.it/eventi/albano-marc
 arini-a-affori-milano-34824/
DTSTAMP:20251204T182111Z
END:VEVENT
END:VCALENDAR