BEGIN:VCALENDAR
VERSION:2.0
PRODID:-//Il Libraio//NONSGML Event Calendar//IT
BEGIN:VEVENT
UID:690ce73a3f483
DTSTART:20251116T143000Z
SEQUENCE:0
TRANSP:OPAQUE
LOCATION:https://www.google.com/maps/dir/+ADI+Design+Museum+piazza+Compasso
 +d\\'Oro+1++Milano+MI/
SUMMARY:Albano Marcarini a Bookcity Milano
CLASS:PUBLIC
DESCRIPTION:Scheda dell'evento: https://www.illibraio.it/eventi/albano-marc
 arini-a-bookcity-milano-33783/
DTSTAMP:20251106T182146Z
END:VEVENT
END:VCALENDAR