BEGIN:VCALENDAR
VERSION:2.0
PRODID:-//Il Libraio//NONSGML Event Calendar//IT
BEGIN:VEVENT
UID:6986c3d7b3c90
DTSTART:20260212T170000Z
SEQUENCE:0
TRANSP:OPAQUE
LOCATION:https://www.google.com/maps/dir/+Teatro+Carlo+Felice+-+Sala+Pagani
 ni+Passo+Eugenio+Montale+4++Genova+GE/
SUMMARY:Alberto Mattioli a Genova
CLASS:PUBLIC
DESCRIPTION:Scheda dell'evento: https://www.illibraio.it/eventi/alberto-mat
 tioli-a-genova-35518/
DTSTAMP:20260207T044719Z
END:VEVENT
END:VCALENDAR