BEGIN:VCALENDAR
VERSION:2.0
PRODID:-//Il Libraio//NONSGML Event Calendar//IT
BEGIN:VEVENT
UID:69bc3eaa65afd
DTSTART:20260326T200000Z
SEQUENCE:0
TRANSP:OPAQUE
LOCATION:https://www.google.com/maps/dir/+Biblioteca+Civica+Jella+Lepaman+V
 ia+Torino+5++Caselle+Torinese+TO/
SUMMARY:Alice Basso a Caselle Torinese
CLASS:PUBLIC
DESCRIPTION:Scheda dell'evento: https://www.illibraio.it/eventi/alice-basso
 -a-caselle-torinese-35330/
DTSTAMP:20260319T182130Z
END:VEVENT
END:VCALENDAR