BEGIN:VCALENDAR
VERSION:2.0
PRODID:-//Il Libraio//NONSGML Event Calendar//IT
BEGIN:VEVENT
UID:69b455b372d48
DTSTART:20260321T194500Z
SEQUENCE:0
TRANSP:OPAQUE
LOCATION:https://www.google.com/maps/dir/+Teatro+Accademico+Via+Giuseppe+Ga
 ribaldi+4++Castelfranco+Veneto+TV/
SUMMARY:Alice Basso a Castelfranco Veneto (TV)
CLASS:PUBLIC
DESCRIPTION:Scheda dell'evento: https://www.illibraio.it/eventi/alice-basso
 -a-castelfranco-veneto-tv-35327/
DTSTAMP:20260313T182139Z
END:VEVENT
END:VCALENDAR