BEGIN:VCALENDAR
VERSION:2.0
PRODID:-//Il Libraio//NONSGML Event Calendar//IT
BEGIN:VEVENT
UID:69b455b37431e
DTSTART:20260322T170000Z
SEQUENCE:0
TRANSP:OPAQUE
LOCATION:https://www.google.com/maps/dir/+Biblioteca+Comunale+di+Ponzano+Ve
 neto+Via+Giovanni+Battista+Cicogna+45++Paderno+TV/
SUMMARY:Alice Basso a Ponzano Veneto (TV)
CLASS:PUBLIC
DESCRIPTION:Scheda dell'evento: https://www.illibraio.it/eventi/alice-basso
 -a-ponzano-veneto-tv-35328/
DTSTAMP:20260313T182139Z
END:VEVENT
END:VCALENDAR