BEGIN:VCALENDAR
VERSION:2.0
PRODID:-//Il Libraio//NONSGML Event Calendar//IT
BEGIN:VEVENT
UID:6986c3d854c02
DTSTART:20260213T200000Z
SEQUENCE:0
TRANSP:OPAQUE
LOCATION:https://www.google.com/maps/dir/+Comune+di+SALASSA+Piazza+Umberto+
 I+5++Salassa+TO/
SUMMARY:Alice Basso a Salassa (TO)
CLASS:PUBLIC
DESCRIPTION:Scheda dell'evento: https://www.illibraio.it/eventi/alice-basso
 -a-salassa-to-35290/
DTSTAMP:20260207T044720Z
END:VEVENT
END:VCALENDAR