BEGIN:VCALENDAR
VERSION:2.0
PRODID:-//Il Libraio//NONSGML Event Calendar//IT
BEGIN:VEVENT
UID:69abad73a7943
DTSTART:20260315T163000Z
SEQUENCE:0
TRANSP:OPAQUE
LOCATION:https://www.google.com/maps/dir/+Palomar+Casa+della+cultura+Piazza
 +della+Libertà+15++San+Giovanni+Valdarno+AR/
SUMMARY:Alice Basso a San Giovanni Valdarno (AR)
CLASS:PUBLIC
DESCRIPTION:Scheda dell'evento: https://www.illibraio.it/eventi/alice-basso
 -a-san-giovanni-valdarno-ar-35324/
DTSTAMP:20260307T044539Z
END:VEVENT
END:VCALENDAR