BEGIN:VCALENDAR
VERSION:2.0
PRODID:-//Il Libraio//NONSGML Event Calendar//IT
BEGIN:VEVENT
UID:69bc3eaa62096
DTSTART:20260325T164500Z
SEQUENCE:0
TRANSP:OPAQUE
LOCATION:https://www.google.com/maps/dir/+Libreria+San+Paolo+Via+della+Cons
 olata+1++Torino+TO/
SUMMARY:Alice Basso a Torino
CLASS:PUBLIC
DESCRIPTION:Scheda dell'evento: https://www.illibraio.it/eventi/alice-basso
 -a-torino-35329/
DTSTAMP:20260319T182130Z
END:VEVENT
END:VCALENDAR