BEGIN:VCALENDAR
VERSION:2.0
PRODID:-//Il Libraio//NONSGML Event Calendar//IT
BEGIN:VEVENT
UID:69e2fe6387687
DTSTART:20260423T170000Z
SEQUENCE:0
TRANSP:OPAQUE
LOCATION:https://www.google.com/maps/dir/+Grand+Tour+Italia+Via+Paolo+Canal
 i+8++Bologna+BO/
SUMMARY:Andrea Vitali a Bologna
CLASS:PUBLIC
DESCRIPTION:Scheda dell'evento: https://www.illibraio.it/eventi/andrea-vita
 li-a-bologna-35256/
DTSTAMP:20260418T034539Z
END:VEVENT
END:VCALENDAR