BEGIN:VCALENDAR
VERSION:2.0
PRODID:-//Il Libraio//NONSGML Event Calendar//IT
BEGIN:VEVENT
UID:69b455b35e5a3
DTSTART:20260317T171500Z
SEQUENCE:0
TRANSP:OPAQUE
LOCATION:https://www.google.com/maps/dir/+Palazzo+Ducale+piazza+Giacomo+Mat
 teotti+9++Genova+GE/
SUMMARY:Anna Chisari a Genova
CLASS:PUBLIC
DESCRIPTION:Scheda dell'evento: https://www.illibraio.it/eventi/anna-chisar
 i-a-genova-35456/
DTSTAMP:20260313T182139Z
END:VEVENT
END:VCALENDAR