BEGIN:VCALENDAR
VERSION:2.0
PRODID:-//Il Libraio//NONSGML Event Calendar//IT
BEGIN:VEVENT
UID:69d931805bbc3
DTSTART:20260417T160000Z
SEQUENCE:0
TRANSP:OPAQUE
LOCATION:https://www.google.com/maps/dir/+Libreria+Ubik+Irnerio+Via+Irnerio
 +27++Bologna+BO/
SUMMARY:Bank Station a Bologna
CLASS:PUBLIC
DESCRIPTION:Scheda dell'evento: https://www.illibraio.it/eventi/bank-statio
 n-a-bologna-36295/
DTSTAMP:20260410T172104Z
END:VEVENT
END:VCALENDAR