BEGIN:VCALENDAR
VERSION:2.0
PRODID:-//Il Libraio//NONSGML Event Calendar//IT
BEGIN:VEVENT
UID:69e11a940e5e1
DTSTART:20260425T153000Z
SEQUENCE:0
TRANSP:OPAQUE
LOCATION:https://www.google.com/maps/dir/+Auditorium+Marchesi+Palazzo+della
 +Cultura+Catania+Via+Vittorio+Emanuele+II+119++Catania+CT/
SUMMARY:Barbara Bellomo a Catania
CLASS:PUBLIC
DESCRIPTION:Scheda dell'evento: https://www.illibraio.it/eventi/barbara-bel
 lomo-a-catania-35644/
DTSTAMP:20260416T172124Z
END:VEVENT
END:VCALENDAR