BEGIN:VCALENDAR
VERSION:2.0
PRODID:-//Il Libraio//NONSGML Event Calendar//IT
BEGIN:VEVENT
UID:69e2fe6399522
DTSTART:20260428T153000Z
SEQUENCE:0
TRANSP:OPAQUE
LOCATION:https://www.google.com/maps/dir/+Essenza+di+Manipura+-+Spazio+Even
 ti+ed+esperienze+gastronomiche+Corso+Sicilia+79++Trecastagni+CT/
SUMMARY:Barbara Bellomo a Trecastagni
CLASS:PUBLIC
DESCRIPTION:Scheda dell'evento: https://www.illibraio.it/eventi/barbara-bel
 lomo-a-trecastagni-36569/
DTSTAMP:20260418T034539Z
END:VEVENT
END:VCALENDAR