BEGIN:VCALENDAR
VERSION:2.0
PRODID:-//Il Libraio//NONSGML Event Calendar//IT
BEGIN:VEVENT
UID:69e2fe63b0acb
DTSTART:20260509T140000Z
SEQUENCE:0
TRANSP:OPAQUE
LOCATION:https://www.google.com/maps/dir/+Giunti+al+Punto+Librerie+Via+dell
 e+Nazioni+Unite+1++Casale+Sant\\'Antonio-Europa+LO/
SUMMARY:Bianca Ferrari presenta \"Issue\" a Pieve Fissiraga
CLASS:PUBLIC
DESCRIPTION:Scheda dell'evento: https://www.illibraio.it/eventi/bianca-ferr
 ari-presenta-issue-a-pieve-fissiraga-36611/
DTSTAMP:20260418T034539Z
END:VEVENT
END:VCALENDAR