BEGIN:VCALENDAR
VERSION:2.0
PRODID:-//Il Libraio//NONSGML Event Calendar//IT
BEGIN:VEVENT
UID:69e26c0652d3d
DTSTART:20260510T070000Z
SEQUENCE:0
TRANSP:OPAQUE
LOCATION:https://www.google.com/maps/dir/+Palazzo+del+Comune+Piazza+del+Duo
 mo+1++Pistoia+PT/
SUMMARY:Cerimonia di premiazione 70° Premio Ceppo Racconto
CLASS:PUBLIC
DESCRIPTION:Scheda dell'evento: https://www.illibraio.it/eventi/cerimonia-d
 i-premiazione-70-premio-ceppo-racconto-36583/
DTSTAMP:20260417T172110Z
END:VEVENT
END:VCALENDAR