BEGIN:VCALENDAR
VERSION:2.0
PRODID:-//Il Libraio//NONSGML Event Calendar//IT
BEGIN:VEVENT
UID:69a9c990d1d6f
DTSTART:20260504T170000Z
SEQUENCE:0
TRANSP:OPAQUE
LOCATION:https://www.google.com/maps/dir/+Libreria+Verso+Corso+di+Porta+Tic
 inese+40++Milano+MI/
SUMMARY:Chiara Bianchi presenta L'eco delle stelle
CLASS:PUBLIC
DESCRIPTION:Scheda dell'evento: https://www.illibraio.it/eventi/chiara-bian
 chi-presenta-leco-delle-stelle-35909/
DTSTAMP:20260305T182104Z
END:VEVENT
END:VCALENDAR