BEGIN:VCALENDAR
VERSION:2.0
PRODID:-//Il Libraio//NONSGML Event Calendar//IT
BEGIN:VEVENT
UID:69cd53edd918e
DTSTART:20260414T160000Z
SEQUENCE:0
TRANSP:OPAQUE
LOCATION:https://www.google.com/maps/dir/+Libreria+Libraccio+Roma+-+Via+Chi
 ana+Via+Chiana+69++Roma+RM/
SUMMARY:Chiara Bianchi presenta \"L'eco delle stelle\" a Roma
CLASS:PUBLIC
DESCRIPTION:Scheda dell'evento: https://www.illibraio.it/eventi/chiara-bian
 chi-presenta-leco-delle-stelle-a-roma-36296/
DTSTAMP:20260401T172045Z
END:VEVENT
END:VCALENDAR