BEGIN:VCALENDAR
VERSION:2.0
PRODID:-//Il Libraio//NONSGML Event Calendar//IT
BEGIN:VEVENT
UID:69d0896cc4162
DTSTART:20260411T140000Z
SEQUENCE:0
TRANSP:OPAQUE
LOCATION:https://www.google.com/maps/dir/+Conservatorio+di+Musica+Giuseppe+
 Verdi+Via+Conservatorio+12++Milano+MI/
SUMMARY:Chora Volume 3: Donato Carrisi a Milano
CLASS:PUBLIC
DESCRIPTION:Scheda dell'evento: https://www.illibraio.it/eventi/chora-volum
 e-3-donato-carrisi-a-milano-35725/
DTSTAMP:20260404T034548Z
END:VEVENT
END:VCALENDAR