BEGIN:VCALENDAR
VERSION:2.0
PRODID:-//Il Libraio//NONSGML Event Calendar//IT
BEGIN:VEVENT
UID:6986c3d8b85da
DTSTART:20260213T173000Z
SEQUENCE:0
TRANSP:OPAQUE
LOCATION:https://www.google.com/maps/dir/+Fondation+de+la+Maison+Rousseau+e
 t+de+la+Littérature+(MRL)+Grand-Rue+40++Genève+--/
SUMMARY:Claudia Mincione a Ginevra (Svizzera)
CLASS:PUBLIC
DESCRIPTION:Scheda dell'evento: https://www.illibraio.it/eventi/claudia-min
 cione-a-ginevra-svizzera-35255/
DTSTAMP:20260207T044720Z
END:VEVENT
END:VCALENDAR