BEGIN:VCALENDAR
VERSION:2.0
PRODID:-//Il Libraio//NONSGML Event Calendar//IT
BEGIN:VEVENT
UID:69bc3eaa58b5e
DTSTART:20260409T184500Z
SEQUENCE:0
TRANSP:OPAQUE
LOCATION:https://www.google.com/maps/dir/+Biblioteca+Comunale+di+Sirone+Via
 +Molteni+17++Sirone+LC/
SUMMARY:Daniela Tommasini presenta In Groenlandia a Sirone
CLASS:PUBLIC
DESCRIPTION:Scheda dell'evento: https://www.illibraio.it/eventi/daniela-tom
 masini-presenta-in-groenlandia-a-sirone-36074/
DTSTAMP:20260319T182130Z
END:VEVENT
END:VCALENDAR