BEGIN:VCALENDAR
VERSION:2.0
PRODID:-//Il Libraio//NONSGML Event Calendar//IT
BEGIN:VEVENT
UID:69cd53ede1ff1
DTSTART:20260422T130000Z
SEQUENCE:0
TRANSP:OPAQUE
LOCATION:https://www.google.com/maps/dir/+Scuole+Elementari+Piazza+Garibald
 i+2++Ostiano+CR/
SUMMARY:Davide Longo presenta \"Montagna si scrive stampatello\" a Ostiano
CLASS:PUBLIC
DESCRIPTION:Scheda dell'evento: https://www.illibraio.it/eventi/davide-long
 o-presenta-montagna-si-scrive-stampatello-a-ostiano-36303/
DTSTAMP:20260401T172045Z
END:VEVENT
END:VCALENDAR