BEGIN:VCALENDAR
VERSION:2.0
PRODID:-//Il Libraio//NONSGML Event Calendar//IT
BEGIN:VEVENT
UID:6999387c9a2b7
DTSTART:20260226T200000Z
SEQUENCE:0
TRANSP:OPAQUE
LOCATION:https://www.google.com/maps/dir/+Associazione+Komorebi+ETS+Via+Gal
 larate+113++Milano+MI/
SUMMARY:Dunia Rahwan a Milano
CLASS:PUBLIC
DESCRIPTION:Scheda dell'evento: https://www.illibraio.it/eventi/dunia-rahwa
 n-a-milano-34828/
DTSTAMP:20260221T044548Z
END:VEVENT
END:VCALENDAR