BEGIN:VCALENDAR
VERSION:2.0
PRODID:-//Il Libraio//NONSGML Event Calendar//IT
BEGIN:VEVENT
UID:69e2fe639b7b7
DTSTART:20260429T160000Z
SEQUENCE:0
TRANSP:OPAQUE
LOCATION:https://www.google.com/maps/dir/+Libreria+Ubik+Catanzaro+Via+Progr
 esso+2++Catanzaro+CZ/
SUMMARY:Erica Cassano a Catanzaro
CLASS:PUBLIC
DESCRIPTION:Scheda dell'evento: https://www.illibraio.it/eventi/erica-cassa
 no-a-catanzaro-35850/
DTSTAMP:20260418T034539Z
END:VEVENT
END:VCALENDAR