BEGIN:VCALENDAR
VERSION:2.0
PRODID:-//Il Libraio//NONSGML Event Calendar//IT
BEGIN:VEVENT
UID:69e2fe6382716
DTSTART:20260423T153000Z
SEQUENCE:0
TRANSP:OPAQUE
LOCATION:https://www.google.com/maps/dir/+Necropoli+della+Banditaccia+Via+d
 ella+Necropoli+43++Cerveteri+RM/
SUMMARY:Erica Cassano a Cerveteri (RM)
CLASS:PUBLIC
DESCRIPTION:Scheda dell'evento: https://www.illibraio.it/eventi/erica-cassa
 no-a-cerveteri-rm-36249/
DTSTAMP:20260418T034539Z
END:VEVENT
END:VCALENDAR