BEGIN:VCALENDAR
VERSION:2.0
PRODID:-//Il Libraio//NONSGML Event Calendar//IT
BEGIN:VEVENT
UID:69e2fe63973bc
DTSTART:20260426T160000Z
SEQUENCE:0
TRANSP:OPAQUE
LOCATION:https://www.google.com/maps/dir/+Libreria+Ubik+Cosenza+Via+XXIV+Ma
 ggio+49+/+P++Cosenza+CS/
SUMMARY:Erica Cassano a Cosenza
CLASS:PUBLIC
DESCRIPTION:Scheda dell'evento: https://www.illibraio.it/eventi/erica-cassa
 no-a-cosenza-35849/
DTSTAMP:20260418T034539Z
END:VEVENT
END:VCALENDAR