BEGIN:VCALENDAR
VERSION:2.0
PRODID:-//Il Libraio//NONSGML Event Calendar//IT
BEGIN:VEVENT
UID:69b455b36d2a9
DTSTART:20260321T150000Z
SEQUENCE:0
TRANSP:OPAQUE
LOCATION:https://www.google.com/maps/dir/+Libreria+Stella+Maris+Via+Felice+
 Cavallotti+5++Cuneo+CN/
SUMMARY:Erica Cassano a Cuneo
CLASS:PUBLIC
DESCRIPTION:Scheda dell'evento: https://www.illibraio.it/eventi/erica-cassa
 no-a-cuneo-35650/
DTSTAMP:20260313T182139Z
END:VEVENT
END:VCALENDAR