BEGIN:VCALENDAR
VERSION:2.0
PRODID:-//Il Libraio//NONSGML Event Calendar//IT
BEGIN:VEVENT
UID:69b455b363a8b
DTSTART:20260317T170000Z
SEQUENCE:0
TRANSP:OPAQUE
LOCATION:https://www.google.com/maps/dir/+Feltrinelli+Librerie+Via+Ceccardo
 +Roccatagliata+Ceccardi+18++Genova+GE/
SUMMARY:Erica Cassano a Genova
CLASS:PUBLIC
DESCRIPTION:Scheda dell'evento: https://www.illibraio.it/eventi/erica-cassa
 no-a-genova-35647/
DTSTAMP:20260313T182139Z
END:VEVENT
END:VCALENDAR