BEGIN:VCALENDAR
VERSION:2.0
PRODID:-//Il Libraio//NONSGML Event Calendar//IT
BEGIN:VEVENT
UID:69e2fe639f0f5
DTSTART:20260430T160000Z
SEQUENCE:0
TRANSP:OPAQUE
LOCATION:https://www.google.com/maps/dir/+Libreria+Ubik+-+Lamezia+Terme+(CZ
 )+Via+Crati+17++Lamezia+Terme+CZ/
SUMMARY:Erica Cassano a Lamezia Terme (CZ)
CLASS:PUBLIC
DESCRIPTION:Scheda dell'evento: https://www.illibraio.it/eventi/erica-cassa
 no-a-lamezia-terme-cz-35851/
DTSTAMP:20260418T034539Z
END:VEVENT
END:VCALENDAR