BEGIN:VCALENDAR
VERSION:2.0
PRODID:-//Il Libraio//NONSGML Event Calendar//IT
BEGIN:VEVENT
UID:69e7b20054f1e
DTSTART:20260502T150000Z
SEQUENCE:0
TRANSP:OPAQUE
LOCATION:https://www.google.com/maps/dir/+Libreria+il+Pensiero+Meridiano+Vi
 a+Indipendenza+12++Tropea+VV/
SUMMARY:Erica Cassano a Tropea (VV)
CLASS:PUBLIC
DESCRIPTION:Scheda dell'evento: https://www.illibraio.it/eventi/erica-cassa
 no-a-tropea-vv-35852/
DTSTAMP:20260421T172104Z
END:VEVENT
END:VCALENDAR