BEGIN:VCALENDAR
VERSION:2.0
PRODID:-//Il Libraio//NONSGML Event Calendar//IT
BEGIN:VEVENT
UID:69d68e7cf356f
DTSTART:20260417T183000Z
SEQUENCE:0
TRANSP:OPAQUE
LOCATION:https://www.google.com/maps/dir/+Teatro+San+Sebastiano+Via+Roma+56
 ++Valli+del+Pasubio+VI/
SUMMARY:Erica Cassano a Valli del Pasubio (VI)
CLASS:PUBLIC
DESCRIPTION:Scheda dell'evento: https://www.illibraio.it/eventi/erica-cassa
 no-a-valli-del-pasubio-vi-36103/
DTSTAMP:20260408T172100Z
END:VEVENT
END:VCALENDAR