BEGIN:VCALENDAR
VERSION:2.0
PRODID:-//Il Libraio//NONSGML Event Calendar//IT
BEGIN:VEVENT
UID:69ab1b1bb6af6
DTSTART:20260416T173000Z
SEQUENCE:0
TRANSP:OPAQUE
LOCATION:https://www.google.com/maps/dir/+Giardino+Segreto+Via+Terraggio\,+
 5++Milano+MI/
SUMMARY:Evento in memoria di Pia Pera a Milano
CLASS:PUBLIC
DESCRIPTION:Scheda dell'evento: https://www.illibraio.it/eventi/evento-in-m
 emoria-di-pia-pera-a-milano-35938/
DTSTAMP:20260306T182115Z
END:VEVENT
END:VCALENDAR