BEGIN:VCALENDAR
VERSION:2.0
PRODID:-//Il Libraio//NONSGML Event Calendar//IT
BEGIN:VEVENT
UID:69e2fe63a9129
DTSTART:20260513T160000Z
SEQUENCE:0
TRANSP:OPAQUE
LOCATION:https://www.google.com/maps/dir/+Feltrinelli+Librerie+Strada+Luigi
 +Carlo+Farini+17++Parma+PR/
SUMMARY:Fabiano Massimi a Parma
CLASS:PUBLIC
DESCRIPTION:Scheda dell'evento: https://www.illibraio.it/eventi/fabiano-mas
 simi-a-parma-36110/
DTSTAMP:20260418T034539Z
END:VEVENT
END:VCALENDAR