BEGIN:VCALENDAR
VERSION:2.0
PRODID:-//Il Libraio//NONSGML Event Calendar//IT
BEGIN:VEVENT
UID:69d9318085349
DTSTART:20260504T160000Z
SEQUENCE:0
TRANSP:OPAQUE
LOCATION:https://www.google.com/maps/dir/+Libreria+Libraccio+Firenze+Via+de
 \\'+Cerretani+16+rosso++Firenze+FI/
SUMMARY:Francesca Cardini presenta \"Una bussola per genitori imperfetti\" 
 a Firenze
CLASS:PUBLIC
DESCRIPTION:Scheda dell'evento: https://www.illibraio.it/eventi/francesca-c
 ardini-presenta-una-bussola-per-genitori-imperfetti-a-firenze-36475/
DTSTAMP:20260410T172104Z
END:VEVENT
END:VCALENDAR