BEGIN:VCALENDAR
VERSION:2.0
PRODID:-//Il Libraio//NONSGML Event Calendar//IT
BEGIN:VEVENT
UID:69d931808351e
DTSTART:20260511T160000Z
SEQUENCE:0
TRANSP:OPAQUE
LOCATION:https://www.google.com/maps/dir/+Feltrinelli+Librerie+Via+Giuseppe
 +Garibaldi+92++Prato+PO/
SUMMARY:Francesca Cardini presenta \"Una bussola per genitori imperfetti\" 
 a Prato
CLASS:PUBLIC
DESCRIPTION:Scheda dell'evento: https://www.illibraio.it/eventi/francesca-c
 ardini-presenta-una-bussola-per-genitori-imperfetti-a-prato-36474/
DTSTAMP:20260410T172104Z
END:VEVENT
END:VCALENDAR