BEGIN:VCALENDAR
VERSION:2.0
PRODID:-//Il Libraio//NONSGML Event Calendar//IT
BEGIN:VEVENT
UID:69dfc96fb886e
DTSTART:20260523T160000Z
SEQUENCE:0
TRANSP:OPAQUE
LOCATION:https://www.google.com/maps/dir/+Palazzo+Scaligero+Del+Capitano+Vi
 a+Giulio+Camuzzoni+8++Soave+VR/
SUMMARY:Francesca Cardini presenta \"Una bussola per genitori imperfetti\" 
 a Soave
CLASS:PUBLIC
DESCRIPTION:Scheda dell'evento: https://www.illibraio.it/eventi/francesca-c
 ardini-presenta-una-bussola-per-genitori-imperfetti-a-soave-36552/
DTSTAMP:20260415T172255Z
END:VEVENT
END:VCALENDAR