BEGIN:VCALENDAR
VERSION:2.0
PRODID:-//Il Libraio//NONSGML Event Calendar//IT
BEGIN:VEVENT
UID:69e2fe63ab24e
DTSTART:20260423T190000Z
SEQUENCE:0
TRANSP:OPAQUE
LOCATION:https://www.google.com/maps/dir/+Sala+del+Sindaco+Via+Torino+5++Ca
 selle+Torinese+TO/
SUMMARY:Francesca Mautino a Caselle Torinese
CLASS:PUBLIC
DESCRIPTION:Scheda dell'evento: https://www.illibraio.it/eventi/francesca-m
 autino-a-caselle-torinese-36608/
DTSTAMP:20260418T034539Z
END:VEVENT
END:VCALENDAR