BEGIN:VCALENDAR
VERSION:2.0
PRODID:-//Il Libraio//NONSGML Event Calendar//IT
BEGIN:VEVENT
UID:69ab1b1ba66cb
DTSTART:20260313T170000Z
SEQUENCE:0
TRANSP:OPAQUE
LOCATION:https://www.google.com/maps/dir/+Biblioteca+Civica+Nuto+Revelli+Vi
 a+Vittorio+Alfieri+4++Piossasco+TO/
SUMMARY:Francesca Mautino a Piossasco (TO)
CLASS:PUBLIC
DESCRIPTION:Scheda dell'evento: https://www.illibraio.it/eventi/francesca-m
 autino-a-piossasco-to-34118/
DTSTAMP:20260306T182115Z
END:VEVENT
END:VCALENDAR