BEGIN:VCALENDAR
VERSION:2.0
PRODID:-//Il Libraio//NONSGML Event Calendar//IT
BEGIN:VEVENT
UID:69e2fe6384dc4
DTSTART:20260423T163000Z
SEQUENCE:0
TRANSP:OPAQUE
LOCATION:https://www.google.com/maps/dir/+Libreria+Tarantola+1899+Via+Frate
 lli+Porcellaga+4++Brescia+BS/
SUMMARY:Francesco Carofiglio a Brescia
CLASS:PUBLIC
DESCRIPTION:Scheda dell'evento: https://www.illibraio.it/eventi/francesco-c
 arofiglio-a-brescia-35825/
DTSTAMP:20260418T034539Z
END:VEVENT
END:VCALENDAR