BEGIN:VCALENDAR
VERSION:2.0
PRODID:-//Il Libraio//NONSGML Event Calendar//IT
BEGIN:VEVENT
UID:69e2fe63800d8
DTSTART:20260422T184500Z
SEQUENCE:0
TRANSP:OPAQUE
LOCATION:https://www.google.com/maps/dir/+Biblioteca+Civica+Angelo+Anelli+V
 iale+F.+Agello+5++Rivoltella+-+Desenzano+del+Garda+BS/
SUMMARY:Francesco Carofiglio a Desenzano del Garda (BS)
CLASS:PUBLIC
DESCRIPTION:Scheda dell'evento: https://www.illibraio.it/eventi/francesco-c
 arofiglio-a-desenzano-del-garda-bs-35099/
DTSTAMP:20260418T034539Z
END:VEVENT
END:VCALENDAR