BEGIN:VCALENDAR
VERSION:2.0
PRODID:-//Il Libraio//NONSGML Event Calendar//IT
BEGIN:VEVENT
UID:69e903775c82f
DTSTART:20260429T173000Z
SEQUENCE:0
TRANSP:OPAQUE
LOCATION:https://www.google.com/maps/dir/+Il+Mosto+Selvatico+Via+Frentana+3
 ++Termoli+CB/
SUMMARY:Francesco Carofiglio a Termoli (CB)
CLASS:PUBLIC
DESCRIPTION:Scheda dell'evento: https://www.illibraio.it/eventi/francesco-c
 arofiglio-a-termoli-cb-35703/
DTSTAMP:20260422T172055Z
END:VEVENT
END:VCALENDAR