BEGIN:VCALENDAR
VERSION:2.0
PRODID:-//Il Libraio//NONSGML Event Calendar//IT
BEGIN:VEVENT
UID:695ff5af03a57
DTSTART:20260118T160000Z
SEQUENCE:0
TRANSP:OPAQUE
LOCATION:https://www.google.com/maps/dir/+Libreria+Coop+Ambasciatori+Via+de
 gli+Orefici+19++Bologna+BO/
SUMMARY:Gabriele Mauro a Bologna
CLASS:PUBLIC
DESCRIPTION:Scheda dell'evento: https://www.illibraio.it/eventi/gabriele-ma
 uro-a-bologna-35119/
DTSTAMP:20260108T182135Z
END:VEVENT
END:VCALENDAR