BEGIN:VCALENDAR
VERSION:2.0
PRODID:-//Il Libraio//NONSGML Event Calendar//IT
BEGIN:VEVENT
UID:696147171f11f
DTSTART:20260119T170000Z
SEQUENCE:0
TRANSP:OPAQUE
LOCATION:https://www.google.com/maps/dir/+Libreria+Ubik+Modena+Via+dei+Tint
 ori+22++Modena+MO/
SUMMARY:Gabriele Mauro a Modena
CLASS:PUBLIC
DESCRIPTION:Scheda dell'evento: https://www.illibraio.it/eventi/gabriele-ma
 uro-a-modena-35048/
DTSTAMP:20260109T182111Z
END:VEVENT
END:VCALENDAR