BEGIN:VCALENDAR
VERSION:2.0
PRODID:-//Il Libraio//NONSGML Event Calendar//IT
BEGIN:VEVENT
UID:69823c77f408e
DTSTART:20260211T173000Z
SEQUENCE:0
TRANSP:OPAQUE
LOCATION:https://www.google.com/maps/dir/+Libreria+Rizzoli+Galleria+Vittori
 o+Emanuele+II+11++Milano+MI/
SUMMARY:Gherardo Colombo a Milano
CLASS:PUBLIC
DESCRIPTION:Scheda dell'evento: https://www.illibraio.it/eventi/gherardo-co
 lombo-a-milano-35192/
DTSTAMP:20260203T182039Z
END:VEVENT
END:VCALENDAR